Package: maPredictDSC Version: 1.47.0 Command: chmod a+r maPredictDSC -R && F:\biocbuild\bbs-3.22-bioc\R\bin\R.exe CMD build --keep-empty-dirs --no-resave-data maPredictDSC StartedAt: 2025-08-14 21:12:07 -0400 (Thu, 14 Aug 2025) EndedAt: 2025-08-14 21:15:16 -0400 (Thu, 14 Aug 2025) EllapsedTime: 189.6 seconds RetCode: 0 Status: OK PackageFile: maPredictDSC_1.47.0.tar.gz PackageFileSize: 100.4 KiB