Package: maPredictDSC Version: 1.49.0 Command: /home/biocbuild/bbs-3.23-bioc/R/bin/R CMD INSTALL maPredictDSC StartedAt: 2025-11-04 15:25:30 -0500 (Tue, 04 Nov 2025) EndedAt: 2025-11-04 15:25:54 -0500 (Tue, 04 Nov 2025) EllapsedTime: 23.7 seconds RetCode: 0 Status: OK