Package: maPredictDSC Version: 1.49.0 Command: /home/biocbuild/bbs-3.23-bioc/R/bin/R CMD check --install=check:maPredictDSC.install-out.txt --library=/home/biocbuild/bbs-3.23-bioc/R/site-library --timings maPredictDSC_1.49.0.tar.gz StartedAt: 2025-11-07 00:45:11 -0500 (Fri, 07 Nov 2025) EndedAt: 2025-11-07 00:50:22 -0500 (Fri, 07 Nov 2025) EllapsedTime: 311.5 seconds RetCode: 0 Status: OK CheckDir: maPredictDSC.Rcheck Warnings: 0