Package: maPredictDSC Version: 1.49.0 Command: /home/biocbuild/bbs-3.23-bioc/R/bin/R CMD build --keep-empty-dirs --no-resave-data maPredictDSC StartedAt: 2025-11-04 18:19:55 -0500 (Tue, 04 Nov 2025) EndedAt: 2025-11-04 18:21:18 -0500 (Tue, 04 Nov 2025) EllapsedTime: 83.1 seconds RetCode: 0 Status: OK PackageFile: maPredictDSC_1.49.0.tar.gz PackageFileSize: 197.6 KiB