Package: maCorrPlot Version: 1.79.0 Command: chmod a+r maCorrPlot -R && F:\biocbuild\bbs-3.22-bioc\R\bin\R.exe CMD build --keep-empty-dirs --no-resave-data maCorrPlot StartedAt: 2025-08-14 21:10:31 -0400 (Thu, 14 Aug 2025) EndedAt: 2025-08-14 21:10:50 -0400 (Thu, 14 Aug 2025) EllapsedTime: 19.0 seconds RetCode: 0 Status: OK PackageFile: maCorrPlot_1.79.0.tar.gz PackageFileSize: 1.265 MiB