Package: maCorrPlot Version: 1.79.0 Command: rm -rf maCorrPlot.buildbin-libdir && mkdir maCorrPlot.buildbin-libdir && F:\biocbuild\bbs-3.22-bioc\R\bin\R.exe CMD INSTALL --build --library=maCorrPlot.buildbin-libdir maCorrPlot_1.79.0.tar.gz StartedAt: 2025-08-15 10:36:42 -0400 (Fri, 15 Aug 2025) EndedAt: 2025-08-15 10:37:04 -0400 (Fri, 15 Aug 2025) EllapsedTime: 21.9 seconds RetCode: 0 Status: OK PackageFile: maCorrPlot_1.79.0.zip PackageFileSize: 1.172 MiB