Package: maCorrPlot Version: 1.79.0 Command: /home/biocbuild/bbs-3.22-bioc/R/bin/R CMD check --install=check:maCorrPlot.install-out.txt --library=/home/biocbuild/bbs-3.22-bioc/R/site-library --timings maCorrPlot_1.79.0.tar.gz StartedAt: 2025-09-30 01:27:37 -0400 (Tue, 30 Sep 2025) EndedAt: 2025-09-30 01:27:59 -0400 (Tue, 30 Sep 2025) EllapsedTime: 22.0 seconds RetCode: 0 Status: OK CheckDir: maCorrPlot.Rcheck Warnings: 0