Package: maCorrPlot Version: 1.81.0 Command: /home/biocbuild/bbs-3.23-bioc/R/bin/R CMD check --install=check:maCorrPlot.install-out.txt --library=/home/biocbuild/bbs-3.23-bioc/R/site-library --timings maCorrPlot_1.81.0.tar.gz StartedAt: 2025-11-21 00:58:39 -0500 (Fri, 21 Nov 2025) EndedAt: 2025-11-21 00:59:00 -0500 (Fri, 21 Nov 2025) EllapsedTime: 21.1 seconds RetCode: 0 Status: OK CheckDir: maCorrPlot.Rcheck Warnings: 0