Package: mCSEA Version: 1.31.0 Command: /home/biocbuild/bbs-3.23-bioc/R/bin/R CMD INSTALL mCSEA StartedAt: 2025-11-06 15:58:13 -0500 (Thu, 06 Nov 2025) EndedAt: 2025-11-06 15:58:50 -0500 (Thu, 06 Nov 2025) EllapsedTime: 37.5 seconds RetCode: 0 Status: OK