Package: mCSEA Version: 1.31.0 Command: /home/biocbuild/bbs-3.23-bioc/R/bin/R CMD build --keep-empty-dirs --no-resave-data mCSEA StartedAt: 2025-11-06 18:24:08 -0500 (Thu, 06 Nov 2025) EndedAt: 2025-11-06 18:26:35 -0500 (Thu, 06 Nov 2025) EllapsedTime: 147.2 seconds RetCode: 1 Status: ERROR PackageFile: None PackageFileSize: NA