Package: mCSEA Version: 1.29.0 Command: /Library/Frameworks/R.framework/Resources/bin/R CMD INSTALL mCSEA StartedAt: 2025-10-14 15:50:57 -0400 (Tue, 14 Oct 2025) EndedAt: 2025-10-14 15:51:47 -0400 (Tue, 14 Oct 2025) EllapsedTime: 50.7 seconds RetCode: 0 Status: OK