Package: mCSEA Version: 1.29.0 Command: /Library/Frameworks/R.framework/Resources/bin/R CMD build --keep-empty-dirs --no-resave-data mCSEA StartedAt: 2025-10-14 17:52:10 -0400 (Tue, 14 Oct 2025) EndedAt: 2025-10-14 17:55:35 -0400 (Tue, 14 Oct 2025) EllapsedTime: 204.5 seconds RetCode: 1 Status: ERROR PackageFile: None PackageFileSize: NA