Package: mCSEA Version: 1.29.0 Maintainer: Jordi Martorell-Marugán MaintainerEmail: jmartorellm at gmail.com git_url: https://git.bioconductor.org/packages/mCSEA git_branch: devel git_last_commit: 7f1573f git_last_commit_date: 2025-04-15 11:17:17 -0400 (Tue, 15 Apr 2025)