Package: mBPCR Version: 1.63.0 Command: /home/biocbuild/R/R/bin/R CMD INSTALL mBPCR StartedAt: 2025-10-13 20:54:40 -0000 (Mon, 13 Oct 2025) EndedAt: 2025-10-13 20:55:20 -0000 (Mon, 13 Oct 2025) EllapsedTime: 40.4 seconds RetCode: 0 Status: OK