Package: mBPCR Version: 1.63.0 Command: /home/biocbuild/R/R/bin/R CMD build --keep-empty-dirs --no-resave-data mBPCR StartedAt: 2025-10-14 01:30:30 -0000 (Tue, 14 Oct 2025) EndedAt: 2025-10-14 01:31:43 -0000 (Tue, 14 Oct 2025) EllapsedTime: 73.0 seconds RetCode: 0 Status: OK PackageFile: mBPCR_1.63.0.tar.gz PackageFileSize: 826.1 KiB