Package: mBPCR Version: 1.65.0 Command: /home/biocbuild/bbs-3.23-bioc/R/bin/R CMD INSTALL mBPCR StartedAt: 2025-11-20 15:20:39 -0500 (Thu, 20 Nov 2025) EndedAt: 2025-11-20 15:21:09 -0500 (Thu, 20 Nov 2025) EllapsedTime: 29.9 seconds RetCode: 0 Status: OK