Package: mBPCR Version: 1.65.0 Command: /home/biocbuild/bbs-3.23-bioc/R/bin/R CMD check --install=check:mBPCR.install-out.txt --library=/home/biocbuild/bbs-3.23-bioc/R/site-library --timings mBPCR_1.65.0.tar.gz StartedAt: 2025-11-22 01:03:20 -0500 (Sat, 22 Nov 2025) EndedAt: 2025-11-22 01:07:21 -0500 (Sat, 22 Nov 2025) EllapsedTime: 241.3 seconds RetCode: 0 Status: OK CheckDir: mBPCR.Rcheck Warnings: 0