Package: m6Aboost Version: 1.17.0 Command: /home/biocbuild/bbs-3.23-bioc/R/bin/R CMD INSTALL m6Aboost StartedAt: 2025-11-05 16:04:07 -0500 (Wed, 05 Nov 2025) EndedAt: 2025-11-05 16:04:50 -0500 (Wed, 05 Nov 2025) EllapsedTime: 43.4 seconds RetCode: 0 Status: OK