Package: m6Aboost Version: 1.17.0 Command: /home/biocbuild/bbs-3.23-bioc/R/bin/R CMD check --install=check:m6Aboost.install-out.txt --library=/home/biocbuild/bbs-3.23-bioc/R/site-library --timings m6Aboost_1.17.0.tar.gz StartedAt: 2025-11-07 00:42:35 -0500 (Fri, 07 Nov 2025) EndedAt: 2025-11-07 00:48:29 -0500 (Fri, 07 Nov 2025) EllapsedTime: 353.6 seconds RetCode: 0 Status: OK CheckDir: m6Aboost.Rcheck Warnings: 0