Package: lute Version: 1.5.1 Command: /Library/Frameworks/R.framework/Resources/bin/R CMD INSTALL lute StartedAt: 2025-10-23 15:49:25 -0400 (Thu, 23 Oct 2025) EndedAt: 2025-10-23 15:50:07 -0400 (Thu, 23 Oct 2025) EllapsedTime: 42.4 seconds RetCode: 0 Status: OK