Package: lute Version: 1.5.1 Command: /Library/Frameworks/R.framework/Resources/bin/R CMD build --keep-empty-dirs --no-resave-data lute StartedAt: 2025-10-22 17:30:50 -0400 (Wed, 22 Oct 2025) EndedAt: 2025-10-22 17:31:55 -0400 (Wed, 22 Oct 2025) EllapsedTime: 64.9 seconds RetCode: 0 Status: OK PackageFile: lute_1.5.1.tar.gz PackageFileSize: 2.236 MiB