Package: lute Version: 1.5.1 Command: rm -rf lute.buildbin-libdir && mkdir lute.buildbin-libdir && /Users/biocbuild/BBS/utils/build-universal.sh lute_1.5.1.tar.gz /Library/Frameworks/R.framework/Resources/bin/R lute.buildbin-libdir StartedAt: 2025-10-24 01:41:41 -0400 (Fri, 24 Oct 2025) EndedAt: 2025-10-24 01:42:27 -0400 (Fri, 24 Oct 2025) EllapsedTime: 46.1 seconds RetCode: 0 Status: OK PackageFile: lute_1.5.1.tgz PackageFileSize: 2.091 MiB