Package: lute Version: 1.5.1 Maintainer: Sean K Maden MaintainerEmail: maden.sean at gmail.com git_url: https://git.bioconductor.org/packages/lute git_branch: devel git_last_commit: 46c2ab0 git_last_commit_date: 2025-09-22 09:54:51 -0400 (Mon, 22 Sep 2025)