Package: lumi Version: 2.63.0 Command: /home/biocbuild/bbs-3.23-bioc/R/bin/R CMD INSTALL lumi StartedAt: 2025-11-21 16:00:53 -0500 (Fri, 21 Nov 2025) EndedAt: 2025-11-21 16:01:46 -0500 (Fri, 21 Nov 2025) EllapsedTime: 53.4 seconds RetCode: 0 Status: OK