Package: lumi Version: 2.63.0 Command: /Library/Frameworks/R.framework/Resources/bin/R CMD INSTALL lumi StartedAt: 2025-11-21 15:55:47 -0500 (Fri, 21 Nov 2025) EndedAt: 2025-11-21 15:56:39 -0500 (Fri, 21 Nov 2025) EllapsedTime: 52.3 seconds RetCode: 0 Status: OK