Package: lumi Version: 2.63.0 Command: /Library/Frameworks/R.framework/Resources/bin/R CMD build --keep-empty-dirs --no-resave-data lumi StartedAt: 2025-11-21 17:32:25 -0500 (Fri, 21 Nov 2025) EndedAt: 2025-11-21 17:32:28 -0500 (Fri, 21 Nov 2025) EllapsedTime: 3.5 seconds RetCode: 0 Status: OK PackageFile: lumi_2.63.0.tar.gz PackageFileSize: 8.033 MiB