Package: lumi Version: 2.63.0 Command: rm -rf lumi.buildbin-libdir && mkdir lumi.buildbin-libdir && /Users/biocbuild/BBS/utils/build-universal.sh lumi_2.63.0.tar.gz /Library/Frameworks/R.framework/Resources/bin/R lumi.buildbin-libdir StartedAt: 2025-11-22 01:41:23 -0500 (Sat, 22 Nov 2025) EndedAt: 2025-11-22 01:42:47 -0500 (Sat, 22 Nov 2025) EllapsedTime: 83.7 seconds RetCode: 0 Status: OK PackageFile: lumi_2.63.0.tgz PackageFileSize: 4.73 MiB