Package: lumi Version: 2.61.0 Command: /Library/Frameworks/R.framework/Resources/bin/R CMD INSTALL lumi StartedAt: 2025-10-28 15:32:27 -0400 (Tue, 28 Oct 2025) EndedAt: 2025-10-28 15:32:50 -0400 (Tue, 28 Oct 2025) EllapsedTime: 22.4 seconds RetCode: 0 Status: OK