Package: lumi Version: 2.61.0 Command: /Library/Frameworks/R.framework/Resources/bin/R CMD build --keep-empty-dirs --no-resave-data lumi StartedAt: 2025-10-28 16:51:25 -0400 (Tue, 28 Oct 2025) EndedAt: 2025-10-28 16:51:26 -0400 (Tue, 28 Oct 2025) EllapsedTime: 1.0 seconds RetCode: 0 Status: OK PackageFile: lumi_2.61.0.tar.gz PackageFileSize: 8.033 MiB