Package: lumi Version: 2.61.0 Command: rm -rf lumi.buildbin-libdir && mkdir lumi.buildbin-libdir && /Users/biocbuild/BBS/utils/build-universal.sh lumi_2.61.0.tar.gz /Library/Frameworks/R.framework/Resources/bin/R lumi.buildbin-libdir StartedAt: 2025-10-28 23:04:50 -0400 (Tue, 28 Oct 2025) EndedAt: 2025-10-28 23:05:14 -0400 (Tue, 28 Oct 2025) EllapsedTime: 24.5 seconds RetCode: 0 Status: OK PackageFile: lumi_2.61.0.tgz PackageFileSize: 4.736 MiB