Back to Build/check report for BioC 3.23:   simplified   long
ABCDEFGHIJK[L]MNOPQRSTUVWXYZ

This page was generated on 2025-11-07 11:32 -0500 (Fri, 07 Nov 2025).

HostnameOSArch (*)R versionInstalled pkgs
nebbiolo1Linux (Ubuntu 24.04.3 LTS)x86_64R Under development (unstable) (2025-10-20 r88955) -- "Unsuffered Consequences" 4818
Click on any hostname to see more info about the system (e.g. compilers)      (*) as reported by 'uname -p', except on Windows and Mac OS X

All results for package lumi


To the developers/maintainers of the lumi package:
- Allow up to 24 hours (and sometimes 48 hours) for your latest push to git@git.bioconductor.org:packages/lumi.git to reflect on this report. See Troubleshooting Build Report for more information.
- Use the following Renviron settings to reproduce errors and warnings.
- If 'R CMD check' started to fail recently on the Linux builder(s) over a missing dependency, add the missing dependency to 'Suggests:' in your DESCRIPTION file. See Renviron.bioc for more information.

raw results

Package 1144/2323HostnameOS / ArchINSTALLBUILDCHECKBUILD BIN
lumi 2.63.0  (landing page)
Lei Huang
Snapshot Date: 2025-11-06 13:40 -0500 (Thu, 06 Nov 2025)
git_url: https://git.bioconductor.org/packages/lumi
git_branch: devel
git_last_commit: 692966d
git_last_commit_date: 2025-10-29 09:58:49 -0500 (Wed, 29 Oct 2025)
nebbiolo1Linux (Ubuntu 24.04.3 LTS) / x86_64  OK    OK    WARNINGS  UNNEEDED, same version is already published



Results for Bioconductor software packages that depend directly on package lumi

QUICK STATSOS / ArchINSTALLBUILDCHECKBUILD BIN
nebbiolo1Linux (Ubuntu 24.04.3 LTS) / x86_64
005
005
0113
Package 1/5HostnameOS / ArchINSTALLBUILDCHECKBUILD BIN
arrayMvout 1.69.0  (landing page)
V. Carey
git_last_commit: 285aeb3
git_last_commit_date: 2025-10-29 10:01:48 -0500
nebbiolo1Linux (Ubuntu 24.04.3 LTS) / x86_64  OK    OK    OK  UNNEEDED, same version is already published
Package 2/5HostnameOS / ArchINSTALLBUILDCHECKBUILD BIN
ffpe 1.55.0  (landing page)
Levi Waldron
git_last_commit: a3c8d6b
git_last_commit_date: 2025-10-29 10:10:29 -0500
nebbiolo1Linux (Ubuntu 24.04.3 LTS) / x86_64  OK    OK    OK  UNNEEDED, same version is already published
Package 3/5HostnameOS / ArchINSTALLBUILDCHECKBUILD BIN
iCheck 1.41.0  (landing page)
Weiliang Qiu
git_last_commit: da591b3
git_last_commit_date: 2025-10-29 10:28:02 -0500
nebbiolo1Linux (Ubuntu 24.04.3 LTS) / x86_64  OK    OK    OK  UNNEEDED, same version is already published
Package 4/5HostnameOS / ArchINSTALLBUILDCHECKBUILD BIN
MineICA 1.51.0  (landing page)
Anne Biton
git_last_commit: b926f54
git_last_commit_date: 2025-10-29 10:13:40 -0500
nebbiolo1Linux (Ubuntu 24.04.3 LTS) / x86_64  OK    OK    ERROR  
Package 5/5HostnameOS / ArchINSTALLBUILDCHECKBUILD BIN
wateRmelon 2.17.0  (landing page)
Leo C Schalkwyk
git_last_commit: e1ace56
git_last_commit_date: 2025-10-29 10:13:04 -0500
nebbiolo1Linux (Ubuntu 24.04.3 LTS) / x86_64  OK    OK    WARNINGS  UNNEEDED, same version is already published