Package: lpsymphony Version: 1.39.0 Command: /Library/Frameworks/R.framework/Resources/bin/R CMD INSTALL lpsymphony StartedAt: 2025-11-20 15:10:05 -0500 (Thu, 20 Nov 2025) EndedAt: 2025-11-20 15:21:53 -0500 (Thu, 20 Nov 2025) EllapsedTime: 707.8 seconds RetCode: 0 Status: OK