Package: lpsymphony Version: 1.39.0 Command: /Library/Frameworks/R.framework/Resources/bin/R CMD build --keep-empty-dirs --no-resave-data lpsymphony StartedAt: 2025-11-20 17:32:54 -0500 (Thu, 20 Nov 2025) EndedAt: 2025-11-20 17:44:56 -0500 (Thu, 20 Nov 2025) EllapsedTime: 722.2 seconds RetCode: 0 Status: OK PackageFile: lpsymphony_1.39.0.tar.gz PackageFileSize: 11.87 MiB