Package: lpsymphony Version: 1.39.0 Command: rm -rf lpsymphony.buildbin-libdir && mkdir lpsymphony.buildbin-libdir && /Users/biocbuild/BBS/utils/build-universal.sh lpsymphony_1.39.0.tar.gz /Library/Frameworks/R.framework/Resources/bin/R lpsymphony.buildbin-libdir StartedAt: 2025-11-21 01:40:52 -0500 (Fri, 21 Nov 2025) EndedAt: 2025-11-21 01:56:55 -0500 (Fri, 21 Nov 2025) EllapsedTime: 962.3 seconds RetCode: 0 Status: OK PackageFile: lpsymphony_1.39.0.tgz PackageFileSize: 2.101 MiB