Package: lpNet Version: 2.41.0 Command: /home/biocbuild/R/R/bin/R CMD INSTALL lpNet StartedAt: 2025-10-16 21:27:02 -0000 (Thu, 16 Oct 2025) EndedAt: 2025-10-16 21:27:11 -0000 (Thu, 16 Oct 2025) EllapsedTime: 8.9 seconds RetCode: 0 Status: OK