Package: lpNet Version: 2.41.0 Command: /home/biocbuild/R/R/bin/R CMD build --keep-empty-dirs --no-resave-data lpNet StartedAt: 2025-10-17 02:15:19 -0000 (Fri, 17 Oct 2025) EndedAt: 2025-10-17 02:16:03 -0000 (Fri, 17 Oct 2025) EllapsedTime: 44.0 seconds RetCode: 0 Status: OK PackageFile: lpNet_2.41.0.tar.gz PackageFileSize: 298.6 KiB