Package: lpNet Version: 2.41.0 Command: /home/biocbuild/bbs-3.22-bioc/R/bin/R CMD check --install=check:lpNet.install-out.txt --library=/home/biocbuild/bbs-3.22-bioc/R/site-library --timings lpNet_2.41.0.tar.gz StartedAt: 2025-10-13 01:12:26 -0400 (Mon, 13 Oct 2025) EndedAt: 2025-10-13 01:13:30 -0400 (Mon, 13 Oct 2025) EllapsedTime: 63.2 seconds RetCode: 0 Status: WARNINGS CheckDir: lpNet.Rcheck Warnings: 1