Package: lpNet Version: 2.43.0 Command: /home/biocbuild/bbs-3.23-bioc/R/bin/R CMD INSTALL lpNet StartedAt: 2025-11-07 15:15:20 -0500 (Fri, 07 Nov 2025) EndedAt: 2025-11-07 15:15:26 -0500 (Fri, 07 Nov 2025) EllapsedTime: 5.3 seconds RetCode: 0 Status: OK