Package: lpNet Version: 2.43.0 Command: /home/biocbuild/bbs-3.23-bioc/R/bin/R CMD build --keep-empty-dirs --no-resave-data lpNet StartedAt: 2025-11-07 18:18:42 -0500 (Fri, 07 Nov 2025) EndedAt: 2025-11-07 18:19:11 -0500 (Fri, 07 Nov 2025) EllapsedTime: 29.0 seconds RetCode: 0 Status: OK PackageFile: lpNet_2.43.0.tar.gz PackageFileSize: 308.1 KiB