Package: looking4clusters Version: 0.99.4 Command: /home/biocbuild/bbs-3.22-bioc/R/bin/R CMD INSTALL looking4clusters StartedAt: 2025-10-03 15:23:43 -0400 (Fri, 03 Oct 2025) EndedAt: 2025-10-03 15:23:44 -0400 (Fri, 03 Oct 2025) EllapsedTime: 1.7 seconds RetCode: 0 Status: OK