Package: looking4clusters Version: 0.99.4 Command: /home/biocbuild/bbs-3.22-bioc/R/bin/R CMD build --keep-empty-dirs --no-resave-data --md5 looking4clusters StartedAt: 2025-10-03 18:21:27 -0400 (Fri, 03 Oct 2025) EndedAt: 2025-10-03 18:23:11 -0400 (Fri, 03 Oct 2025) EllapsedTime: 103.1 seconds RetCode: 0 Status: OK PackageFile: looking4clusters_0.99.4.tar.gz PackageFileSize: 1.593 MiB