############################################################################## ############################################################################## ### ### Running command: ### ### /home/biocbuild/bbs-3.22-bioc/R/bin/R CMD build --keep-empty-dirs --no-resave-data --md5 looking4clusters ### ############################################################################## ############################################################################## * checking for file ‘looking4clusters/DESCRIPTION’ ... OK * preparing ‘looking4clusters’: * checking DESCRIPTION meta-information ... OK * installing the package to build vignettes * creating vignettes ... OK * checking for LF line-endings in source and make files and shell scripts * checking for empty or unneeded directories * adding MD5 file * building ‘looking4clusters_0.99.4.tar.gz’