Package: looking4clusters Version: 1.1.0 Command: /home/biocbuild/bbs-3.23-bioc/R/bin/R CMD INSTALL looking4clusters StartedAt: 2025-11-20 15:24:31 -0500 (Thu, 20 Nov 2025) EndedAt: 2025-11-20 15:24:33 -0500 (Thu, 20 Nov 2025) EllapsedTime: 1.7 seconds RetCode: 0 Status: OK