Package: looking4clusters Version: 1.1.0 Command: /home/biocbuild/bbs-3.23-bioc/R/bin/R CMD check --install=check:looking4clusters.install-out.txt --library=/home/biocbuild/bbs-3.23-bioc/R/site-library --timings looking4clusters_1.1.0.tar.gz StartedAt: 2025-11-21 00:57:17 -0500 (Fri, 21 Nov 2025) EndedAt: 2025-11-21 01:01:30 -0500 (Fri, 21 Nov 2025) EllapsedTime: 253.6 seconds RetCode: 0 Status: OK CheckDir: looking4clusters.Rcheck Warnings: 0