Package: looking4clusters Version: 0.99.4 Command: /Library/Frameworks/R.framework/Resources/bin/R CMD INSTALL looking4clusters StartedAt: 2025-10-03 15:26:25 -0400 (Fri, 03 Oct 2025) EndedAt: 2025-10-03 15:26:32 -0400 (Fri, 03 Oct 2025) EllapsedTime: 7.4 seconds RetCode: 0 Status: OK