Package: looking4clusters Version: 0.99.4 Command: rm -rf looking4clusters.buildbin-libdir && mkdir looking4clusters.buildbin-libdir && /Users/biocbuild/BBS/utils/build-universal.sh looking4clusters_0.99.4.tar.gz /Library/Frameworks/R.framework/Resources/bin/R looking4clusters.buildbin-libdir StartedAt: 2025-10-04 02:12:45 -0400 (Sat, 04 Oct 2025) EndedAt: 2025-10-04 02:12:51 -0400 (Sat, 04 Oct 2025) EllapsedTime: 5.8 seconds RetCode: 0 Status: OK PackageFile: looking4clusters_0.99.4.tgz PackageFileSize: 1.139 MiB