Package: looking4clusters Version: 0.99.4 Command: /Library/Frameworks/R.framework/Resources/bin/R CMD INSTALL looking4clusters StartedAt: 2025-10-03 15:15:33 -0400 (Fri, 03 Oct 2025) EndedAt: 2025-10-03 15:15:34 -0400 (Fri, 03 Oct 2025) EllapsedTime: 1.3 seconds RetCode: 0 Status: OK