Package: looking4clusters Version: 0.99.4 Command: /Library/Frameworks/R.framework/Resources/bin/R CMD build --keep-empty-dirs --no-resave-data looking4clusters StartedAt: 2025-10-03 16:51:12 -0400 (Fri, 03 Oct 2025) EndedAt: 2025-10-03 16:51:55 -0400 (Fri, 03 Oct 2025) EllapsedTime: 42.5 seconds RetCode: 0 Status: OK PackageFile: looking4clusters_0.99.4.tar.gz PackageFileSize: 1.591 MiB