Package: looking4clusters Version: 0.99.4 Maintainer: David Barrios MaintainerEmail: metal at usal.es git_url: https://git.bioconductor.org/packages/looking4clusters git_branch: devel git_last_commit: 812475f git_last_commit_date: 2025-10-01 10:59:28 -0400 (Wed, 01 Oct 2025)