Package: logicFS Version: 2.31.0 Command: /home/biocbuild/bbs-3.23-bioc/R/bin/R CMD build --keep-empty-dirs --no-resave-data logicFS StartedAt: 2025-10-31 18:31:45 -0400 (Fri, 31 Oct 2025) EndedAt: 2025-10-31 18:31:58 -0400 (Fri, 31 Oct 2025) EllapsedTime: 13.0 seconds RetCode: 0 Status: OK PackageFile: logicFS_2.31.0.tar.gz PackageFileSize: 260.1 KiB